BEGIN:VCALENDAR
VERSION:2.0
PRODID:-//West Point Parents Club of North Carolina - ECPv6.6.2//NONSGML v1.0//EN
CALSCALE:GREGORIAN
METHOD:PUBLISH
X-WR-CALNAME:West Point Parents Club of North Carolina
X-ORIGINAL-URL:https://wppcnc.org
X-WR-CALDESC:Events for West Point Parents Club of North Carolina
REFRESH-INTERVAL;VALUE=DURATION:PT1H
X-Robots-Tag:noindex
X-PUBLISHED-TTL:PT1H
BEGIN:VTIMEZONE
TZID:UTC
BEGIN:STANDARD
TZOFFSETFROM:+0000
TZOFFSETTO:+0000
TZNAME:UTC
DTSTART:20250101T000000
END:STANDARD
END:VTIMEZONE
BEGIN:VEVENT
DTSTART;TZID=UTC:20250322T163000
DTEND;TZID=UTC:20250322T200000
DTSTAMP:20260423T185135
CREATED:20250225T041738Z
LAST-MODIFIED:20250225T041738Z
UID:1294-1742661000-1742673600@wppcnc.org
SUMMARY:WP Society of NC Piedmont 2025 Founder's Day
DESCRIPTION:Date: Saturday\, March 22\, 2025 \nLocation: Greensboro Country Club\, 410 Sunset Drive\, Greensboro\, NC \nKeynote Speaker: Dr. Susan Richardson\, West Point Vice Dean of Academic Affairs \nTimeline\n4:30 to 5:30 pm – Admissions Briefing For Cadet Candidates In the Irving Room\n5:00 to 5:55 pm – Benny Havens Social Hour In Main Ballroom\n5:55 pm – Welcome\, Toasts\, Invocation followed by Buffet Dinner in Main Ballroom\n6:55 pm – Program Begins\n8 pm – Alma Mater and Adjourn
URL:https://wppcnc.org/event/wp-society-of-nc-piedmont-2025-founders-day/
LOCATION:Greensboro Country Club\, 410 Sunset Drive\, Greensboro\, NC
ATTACH;FMTTYPE=image/webp:https://wppcnc.org/wp-content/uploads/2025/02/image_processing20241103-1-poalp2.webp
ORGANIZER;CN="Bill Trivette":MAILTO:bill.trivette@gmail.com
END:VEVENT
END:VCALENDAR