BEGIN:VCALENDAR
VERSION:2.0
PRODID:-//West Point Parents Club of North Carolina - ECPv6.6.2//NONSGML v1.0//EN
CALSCALE:GREGORIAN
METHOD:PUBLISH
X-WR-CALNAME:West Point Parents Club of North Carolina
X-ORIGINAL-URL:https://wppcnc.org
X-WR-CALDESC:Events for West Point Parents Club of North Carolina
REFRESH-INTERVAL;VALUE=DURATION:PT1H
X-Robots-Tag:noindex
X-PUBLISHED-TTL:PT1H
BEGIN:VTIMEZONE
TZID:America/New_York
BEGIN:DAYLIGHT
TZOFFSETFROM:-0500
TZOFFSETTO:-0400
TZNAME:EDT
DTSTART:20250309T070000
END:DAYLIGHT
BEGIN:STANDARD
TZOFFSETFROM:-0400
TZOFFSETTO:-0500
TZNAME:EST
DTSTART:20251102T060000
END:STANDARD
END:VTIMEZONE
BEGIN:VEVENT
DTSTART;VALUE=DATE:20250816
DTEND;VALUE=DATE:20250817
DTSTAMP:20260423T054103
CREATED:20250619T013626Z
LAST-MODIFIED:20250630T102024Z
UID:1556-1755302400-1755388799@wppcnc.org
SUMMARY:A Day - Class of 2029
DESCRIPTION:A-Day is the day the Corps of Cadets officially accepts the New Cadets into the Corps and they become Plebes. A-Day is highlighted with a full Corps parade on the Plain and is one of the favorites of parents. Following the parade\, the new Plebes are allowed walking privileges and can spend the weekend (not overnight) with friends and family. \nLook for us before the parade. We’ll have coffee and donuts waiting for you. \nYou can find the A Day Parade Field Map here. \nLearn more about A Day and other Plebe year milestones here.
URL:https://wppcnc.org/event/a-day-class-of-2029/
LOCATION:NC
ATTACH;FMTTYPE=image/jpeg:https://wppcnc.org/wp-content/uploads/2025/06/A-Day-Parade-Class-of-2029.jpg
END:VEVENT
END:VCALENDAR