BEGIN:VCALENDAR
VERSION:2.0
PRODID:-//West Point Parents Club of North Carolina - ECPv6.6.2//NONSGML v1.0//EN
CALSCALE:GREGORIAN
METHOD:PUBLISH
X-ORIGINAL-URL:https://wppcnc.org
X-WR-CALDESC:Events for West Point Parents Club of North Carolina
REFRESH-INTERVAL;VALUE=DURATION:PT1H
X-Robots-Tag:noindex
X-PUBLISHED-TTL:PT1H
BEGIN:VTIMEZONE
TZID:America/New_York
BEGIN:DAYLIGHT
TZOFFSETFROM:-0500
TZOFFSETTO:-0400
TZNAME:EDT
DTSTART:20250309T070000
END:DAYLIGHT
BEGIN:STANDARD
TZOFFSETFROM:-0400
TZOFFSETTO:-0500
TZNAME:EST
DTSTART:20251102T060000
END:STANDARD
END:VTIMEZONE
BEGIN:VEVENT
DTSTART;TZID=America/New_York:20251011T093000
DTEND;TZID=America/New_York:20251011T190000
DTSTAMP:20260423T023646
CREATED:20250630T104817Z
LAST-MODIFIED:20251008T015930Z
UID:1574-1760175000-1760209200@wppcnc.org
SUMMARY:Family Weekend - Army v. UNCC Tailgate
DESCRIPTION:**REGISTRATION FOR THIS EVENT IS CLOSED** \nWe look forward to seeing you at the WPPCNC Family Weekend Tailgate – October 11\, 2025! \nThe West Point Parents Club of North Carolina is excited to host a Family Weekend Tailgate at West Point when Army takes on UNCC on Saturday\, October 11\, 2025. We’re already calling it—Army beats UNCC!—and we’re celebrating with great food\, camaraderie\, and Black Knight spirit! \nWhether you’re cheering on your cadet\, reconnecting with fellow North Carolina families\, or making new friends\, this is a can’t-miss event during Family Weekend. All WPPCNC members/families are welcome to join us for this special gathering. \nDetails:Look for our West Point Parents Club of North Carolina tent at Daly Field. \n\nWe will have coffee and donuts in the morning\, right after the parade\nBBQ\, beverages\, limited beer and wine\, and corn hole will be available right after the game ends\nThis event requires registration
URL:https://wppcnc.org/event/family-weekend-army-v-uncc-tailgate/
LOCATION:West Point – Daly Field
ATTACH;FMTTYPE=image/jpeg:https://wppcnc.org/wp-content/uploads/2024/04/53967288192_15da918898_o.jpg
END:VEVENT
END:VCALENDAR