BEGIN:VCALENDAR
VERSION:2.0
PRODID:-//West Point Parents Club of North Carolina - ECPv6.6.2//NONSGML v1.0//EN
CALSCALE:GREGORIAN
METHOD:PUBLISH
X-WR-CALNAME:West Point Parents Club of North Carolina
X-ORIGINAL-URL:https://wppcnc.org
X-WR-CALDESC:Events for West Point Parents Club of North Carolina
REFRESH-INTERVAL;VALUE=DURATION:PT1H
X-Robots-Tag:noindex
X-PUBLISHED-TTL:PT1H
BEGIN:VTIMEZONE
TZID:America/New_York
BEGIN:DAYLIGHT
TZOFFSETFROM:-0500
TZOFFSETTO:-0400
TZNAME:EDT
DTSTART:20250309T070000
END:DAYLIGHT
BEGIN:STANDARD
TZOFFSETFROM:-0400
TZOFFSETTO:-0500
TZNAME:EST
DTSTART:20251102T060000
END:STANDARD
BEGIN:DAYLIGHT
TZOFFSETFROM:-0500
TZOFFSETTO:-0400
TZNAME:EDT
DTSTART:20260308T070000
END:DAYLIGHT
BEGIN:STANDARD
TZOFFSETFROM:-0400
TZOFFSETTO:-0500
TZNAME:EST
DTSTART:20261101T060000
END:STANDARD
TZID:UTC
BEGIN:STANDARD
TZOFFSETFROM:+0000
TZOFFSETTO:+0000
TZNAME:UTC
DTSTART:20250101T000000
END:STANDARD
END:VTIMEZONE
BEGIN:VEVENT
DTSTART;VALUE=DATE:20250816
DTEND;VALUE=DATE:20250817
DTSTAMP:20260423T071441
CREATED:20250619T013626Z
LAST-MODIFIED:20250630T102024Z
UID:1556-1755302400-1755388799@wppcnc.org
SUMMARY:A Day - Class of 2029
DESCRIPTION:A-Day is the day the Corps of Cadets officially accepts the New Cadets into the Corps and they become Plebes. A-Day is highlighted with a full Corps parade on the Plain and is one of the favorites of parents. Following the parade\, the new Plebes are allowed walking privileges and can spend the weekend (not overnight) with friends and family. \nLook for us before the parade. We’ll have coffee and donuts waiting for you. \nYou can find the A Day Parade Field Map here. \nLearn more about A Day and other Plebe year milestones here.
URL:https://wppcnc.org/event/a-day-class-of-2029/
LOCATION:NC
ATTACH;FMTTYPE=image/jpeg:https://wppcnc.org/wp-content/uploads/2025/06/A-Day-Parade-Class-of-2029.jpg
END:VEVENT
BEGIN:VEVENT
DTSTART;TZID=America/New_York:20250818T180000
DTEND;TZID=America/New_York:20250818T190000
DTSTAMP:20260423T071441
CREATED:20250812T224000Z
LAST-MODIFIED:20250812T224000Z
UID:1657-1755540000-1755543600@wppcnc.org
SUMMARY:Affirmation - Class of 2027
DESCRIPTION:For the Class of 2027\, Affirmation marks a major milestone in their West Point journey. During this ceremony\, each Cow (junior) formally commits to completing their final two years at the Academy with the intention of graduating\, commissioning\, and serving as officers in the United States Army. This moment is both symbolic and binding—it reflects their dedication to the ideals of Duty\, Honor\, Country\, and their readiness to take on the responsibilities of military leadership. Affirmation is a proud and defining step on the road from cadet to officer. \nThis event is not open to parents.
URL:https://wppcnc.org/event/affirmation-class-of-2027/
LOCATION:NC
ATTACH;FMTTYPE=image/jpeg:https://wppcnc.org/wp-content/uploads/2024/04/Affirmation-scaled.jpg
END:VEVENT
BEGIN:VEVENT
DTSTART;TZID=America/New_York:20251011T093000
DTEND;TZID=America/New_York:20251011T190000
DTSTAMP:20260423T071441
CREATED:20250630T104817Z
LAST-MODIFIED:20251008T015930Z
UID:1574-1760175000-1760209200@wppcnc.org
SUMMARY:Family Weekend - Army v. UNCC Tailgate
DESCRIPTION:**REGISTRATION FOR THIS EVENT IS CLOSED** \nWe look forward to seeing you at the WPPCNC Family Weekend Tailgate – October 11\, 2025! \nThe West Point Parents Club of North Carolina is excited to host a Family Weekend Tailgate at West Point when Army takes on UNCC on Saturday\, October 11\, 2025. We’re already calling it—Army beats UNCC!—and we’re celebrating with great food\, camaraderie\, and Black Knight spirit! \nWhether you’re cheering on your cadet\, reconnecting with fellow North Carolina families\, or making new friends\, this is a can’t-miss event during Family Weekend. All WPPCNC members/families are welcome to join us for this special gathering. \nDetails:Look for our West Point Parents Club of North Carolina tent at Daly Field. \n\nWe will have coffee and donuts in the morning\, right after the parade\nBBQ\, beverages\, limited beer and wine\, and corn hole will be available right after the game ends\nThis event requires registration
URL:https://wppcnc.org/event/family-weekend-army-v-uncc-tailgate/
LOCATION:West Point – Daly Field
ATTACH;FMTTYPE=image/jpeg:https://wppcnc.org/wp-content/uploads/2024/04/53967288192_15da918898_o.jpg
END:VEVENT
BEGIN:VEVENT
DTSTART;VALUE=DATE:20251213
DTEND;VALUE=DATE:20251214
DTSTAMP:20260423T071441
CREATED:20240427T011829Z
LAST-MODIFIED:20250620T175525Z
UID:618-1765584000-1765670399@wppcnc.org
SUMMARY:Army v. Navy Football Game
DESCRIPTION:This is the most amazing game you will ever experience! \nThe WPPCNC has reserved a block of rooms at the Sonesta and a block of rooms at the Hyatt. Both are located along Baltimore’s picturesque Inner Harbor and are in close proximity to M & T Bank Stadium. You can reserve your room(s) by following this link. \nRefer to West Point’s Army A Club page for ticket information.
URL:https://wppcnc.org/event/army-v-navy-football-game/
LOCATION:M&T Bank Stadium\, Baltimore\, MD\, United States
ATTACH;FMTTYPE=image/jpeg:https://wppcnc.org/wp-content/uploads/2024/04/201211-army-navy-scaled-e1750442112766.jpeg
END:VEVENT
BEGIN:VEVENT
DTSTART;TZID=America/New_York:20251221T170000
DTEND;TZID=America/New_York:20251221T230000
DTSTAMP:20260423T071441
CREATED:20251028T164929Z
LAST-MODIFIED:20251111T213025Z
UID:1752-1766336400-1766358000@wppcnc.org
SUMMARY:2025 All Academy Ball
DESCRIPTION:Join Us for the 2025 All Academy Ball\nYou\, your family\, and friends are invited to be part of something extraordinary at the 2025 North Carolina All Academy Ball. It’s an event like no other as we honor our North Carolina cadets and midshipmen\, and we want you to be there! It’s a special evening filled with camaraderie\, pride\, and the shared spirit of service. This year\, the United States Military Academy at West Point will host the event\, and we look forward to welcoming as many of our academy families as possible to join in this memorable celebration. \nThe evening will begin with formal military traditions\, including honoring of our cadets and midshipmen\, with special recognition of our Firsties\, followed by a seated dinner and engaging words from COL(R) Greg Stone.  \nAbout Our Speaker\nColonel (Ret.) Gregory A. StoneA 1976 graduate of the U.S. Military Academy at West Point\, Colonel Gregory Stone served over 29 years in the U.S. Army as an Armor–Cavalry officer\, commanding at every level from platoon to brigade. His distinguished career included leadership roles in Operations Desert Shield\, Desert Storm\, and Joint Endeavor in Bosnia\, as well as key assignments at the Pentagon\, West Point\, and abroad. Following his retirement\, he served as Commandant of Cadets at The Citadel and continues to advance leadership development through his work with All American Leadership and veterans organizations. \nRead Colonel Stone’s full biography ➜ \n \nKimberly Midkiff Photography will take professional photos\, and DJ Fish will ensure we’ll all dance the night away!  \nReserve your room under the “All Academy Ball” room block rate of $131/night by calling the Hilton at 1-800-445-8667 or visiting Hilton Charlotte Airport by November 22nd. \nThis event is hosted by the West Point Parents Club of North Carolina  (WPPCNC) with support from: \n\nUS Naval Academy Parent Club of North Carolina\nUS Air Force Academy Parents Club of Eastern North Carolina\nUS Air Force Academy Piedmont North Carolina Parents Club\nUS Merchant Marine Academy North Carolina Parents Association\nUS Coast Guard Parent Association- North Carolina\n\nDonations and sponsorships are welcomed to ensure all cadets and midshipmen attend complimentary. \nDetails: \nDate: December 21\, 2025\nTime: 5:00 p.m. – 11:00 p.m.\nLocation: Hilton Charlotte Airport\n2800 Coliseum Centre Drive\nCharlotte\, NC 28217 \nAdvance purchase pricing available through December 1\, 2025. Cadets and Midshipmen are complementary. \nPurchase your tickets here! \n We look forward to seeing you!  \nWPPCNC is a registered non-profit\, and all donations are tax-deductible. 
URL:https://wppcnc.org/event/2025-all-academy-ball/
LOCATION:Hilton Charlotte Airport\, 2800 Coliseum Centre Drive\, Charlotte\, NC\, 28217\, United States
ATTACH;FMTTYPE=image/png:https://wppcnc.org/wp-content/uploads/2024/04/Cadets-and-midshipmen-who-attended-the-2023-All-Academy-Ball.png
ORGANIZER;CN="West Point Parents Club of North Carolina":MAILTO:wppcnc1802@gmail.co,
END:VEVENT
BEGIN:VEVENT
DTSTART;TZID=America/New_York:20260531T120000
DTEND;TZID=America/New_York:20260531T140000
DTSTAMP:20260423T071441
CREATED:20260415T002110Z
LAST-MODIFIED:20260415T002521Z
UID:1946-1780228800-1780236000@wppcnc.org
SUMMARY:2026 Hail & Farewell
DESCRIPTION:On Sunday\, May 31st\, starting at 12 pm\, join us in congratulating the Class of 2026 and welcoming the Class of 2030. We’re excited to meet you at Triad Park (Kernersville\, North Carolina) and enjoy some wonderful food\, share stories and information about the 47-month journey\, and build friendships with family and friends from across the state.\n\n$25/person\n2026 Grads\, Cadets and New Cadet Candidates are free\n\nFollow this link to register.
URL:https://wppcnc.org/event/hail-farewell/
LOCATION:Triad Park – Shelter 4\, 9652 W Market St.\, Kernersville\, NC\, 27284\, United States
ATTACH;FMTTYPE=image/jpeg:https://wppcnc.org/wp-content/uploads/2024/06/IMG_7019-Small.jpeg
END:VEVENT
BEGIN:VEVENT
DTSTART;VALUE=DATE:20260629
DTEND;VALUE=DATE:20260630
DTSTAMP:20260423T071441
CREATED:20260217T143225Z
LAST-MODIFIED:20260217T143225Z
UID:1943-1782691200-1782777599@wppcnc.org
SUMMARY:R Day for the Class of 2030
DESCRIPTION:
URL:https://wppcnc.org/event/r-day-for-the-class-of-2030/
LOCATION:NC
ATTACH;FMTTYPE=image/jpeg:https://wppcnc.org/wp-content/uploads/2025/08/52179174147_77b9a41ff3_c.jpg
END:VEVENT
END:VCALENDAR