BEGIN:VCALENDAR
VERSION:2.0
PRODID:-//West Point Parents Club of North Carolina - ECPv6.6.2//NONSGML v1.0//EN
CALSCALE:GREGORIAN
METHOD:PUBLISH
X-WR-CALNAME:West Point Parents Club of North Carolina
X-ORIGINAL-URL:https://wppcnc.org
X-WR-CALDESC:Events for West Point Parents Club of North Carolina
REFRESH-INTERVAL;VALUE=DURATION:PT1H
X-Robots-Tag:noindex
X-PUBLISHED-TTL:PT1H
BEGIN:VTIMEZONE
TZID:UTC
BEGIN:STANDARD
TZOFFSETFROM:+0000
TZOFFSETTO:+0000
TZNAME:UTC
DTSTART:20230101T000000
END:STANDARD
END:VTIMEZONE
BEGIN:VEVENT
DTSTART;TZID=UTC:20231228T180000
DTEND;TZID=UTC:20231228T220000
DTSTAMP:20260423T132908
CREATED:20240409T013547Z
LAST-MODIFIED:20240426T223510Z
UID:267-1703786400-1703800800@wppcnc.org
SUMMARY:North Carolina All Academy Ball
DESCRIPTION:The North Carolina All Academy Ball is an annual\, formal military gala planned to honor and celebrate the nearly 300 North Carolina young men and women who currently attend one of the five United States Service Academies: The US Military Academy (West Point\, NY)\, the US Naval Academy (Annapolis\, MD)\, the US Air Force Academy (Colorado Springs\, CO)\, the US Coast Guard Academy (New London\, CT) and the US Merchant Marine Academy (Kings Point\, NY). The Ball is held each December while cadets and midshipmen are on break from their academy and is coordinated by the parents clubs of West Point\, Naval Academy and the Air Force Academy.
URL:https://wppcnc.org/event/test-event-1/
LOCATION:Grandover Resort\, 1000 Club Rd\, Greensboro\, NC\, 27407\, United States
ATTACH;FMTTYPE=image/png:https://wppcnc.org/wp-content/uploads/2024/04/Cadets-and-midshipmen-who-attended-the-2023-All-Academy-Ball.png
END:VEVENT
END:VCALENDAR