BEGIN:VCALENDAR
VERSION:2.0
PRODID:-//West Point Parents Club of North Carolina - ECPv6.6.2//NONSGML v1.0//EN
CALSCALE:GREGORIAN
METHOD:PUBLISH
X-ORIGINAL-URL:https://wppcnc.org
X-WR-CALDESC:Events for West Point Parents Club of North Carolina
REFRESH-INTERVAL;VALUE=DURATION:PT1H
X-Robots-Tag:noindex
X-PUBLISHED-TTL:PT1H
BEGIN:VTIMEZONE
TZID:UTC
BEGIN:STANDARD
TZOFFSETFROM:+0000
TZOFFSETTO:+0000
TZNAME:UTC
DTSTART:20250101T000000
END:STANDARD
TZID:America/New_York
BEGIN:DAYLIGHT
TZOFFSETFROM:-0500
TZOFFSETTO:-0400
TZNAME:EDT
DTSTART:20250309T070000
END:DAYLIGHT
BEGIN:STANDARD
TZOFFSETFROM:-0400
TZOFFSETTO:-0500
TZNAME:EST
DTSTART:20251102T060000
END:STANDARD
END:VTIMEZONE
BEGIN:VEVENT
DTSTART;TZID=UTC:20250601T150000
DTEND;TZID=UTC:20250601T160000
DTSTAMP:20260423T071425
CREATED:20250412T225231Z
LAST-MODIFIED:20250509T170536Z
UID:1359-1748790000-1748793600@wppcnc.org
SUMMARY:Beast Basics - Class of 2029 - Zoom Call
DESCRIPTION:Join us for a virtual call where you can ask questions and learn from current cadets how to prepare for Beast and what to expect. Register here and we will send the meeting details.
URL:https://wppcnc.org/event/getting-ready-for-beast-class-of-2029-zoom-call/
LOCATION:Zoom Call
ATTACH;FMTTYPE=image/jpeg:https://wppcnc.org/wp-content/uploads/2024/07/53828017582_0ea4583795_w.jpg
ORGANIZER;CN="Christina Vinson":MAILTO:wppcnc1802@gmail.com
END:VEVENT
BEGIN:VEVENT
DTSTART;VALUE=DATE:20250630
DTEND;VALUE=DATE:20250701
DTSTAMP:20260423T071425
CREATED:20240427T010238Z
LAST-MODIFIED:20250412T230756Z
UID:604-1751241600-1751327999@wppcnc.org
SUMMARY:R Day - Class of 2029
DESCRIPTION:A day that will forever be ingrained in their memory\, R-Day is the first day of the West Point experience. This year RDay will be on June 30th and it is also the first day of Cadet Basic Training. During CBT\, “New Cadets” (they have not earned the rank of Plebe yet) will learn all the basic Cadet and soldiering skills. CBT lasts until the first week in August\, and concludes with the traditional march-back\, where the New Cadets ruck march from field training back to the Cadet Barracks with much fanfare. \nLook for our West Point Parent Club of NC representatives once you have dropped off your New Cadet. We will be there ready to answers questions and support you as you begin this unique journey.
URL:https://wppcnc.org/event/r-day-class-of-2028/
LOCATION:NC
ATTACH;FMTTYPE=image/jpeg:https://wppcnc.org/wp-content/uploads/2024/04/R-Day.jpg
END:VEVENT
BEGIN:VEVENT
DTSTART;TZID=America/New_York:20251221T170000
DTEND;TZID=America/New_York:20251221T170000
DTSTAMP:20260423T071425
CREATED:20250630T105355Z
LAST-MODIFIED:20250630T105547Z
UID:1577-1766336400-1766336400@wppcnc.org
SUMMARY:North Carolina All Academies Ball
DESCRIPTION:🎖️ Save the Date! 🎖️ \nThe West Point Parents Club of North Carolina is honored to host this year’s All Academies Ball! \n📅 Sunday\, December 21\, 2025📍 Hilton Charlotte Airport2800 Coliseum Centre Dr\, Charlotte\, NC \nJoin us for an unforgettable evening as we celebrate the commitment\, service\, and achievements of our cadets and midshipmen from all U.S. Service Academies. \n✨ Details to follow.Mark your calendars—we can’t wait to see you there!
URL:https://wppcnc.org/event/north-carolina-all-academies-ball/
LOCATION:NC
ATTACH;FMTTYPE=image/png:https://wppcnc.org/wp-content/uploads/2025/06/2025-All-Academy-Ball-Save-the-Date.png
END:VEVENT
END:VCALENDAR